BEGIN:VCALENDAR
VERSION:2.0
PRODID:-//Julian Woman's Club - ECPv6.13.1//NONSGML v1.0//EN
CALSCALE:GREGORIAN
METHOD:PUBLISH
X-ORIGINAL-URL:http://www.julianwomansclub.org
X-WR-CALDESC:Events for Julian Woman's Club
REFRESH-INTERVAL;VALUE=DURATION:PT1H
X-Robots-Tag:noindex
X-PUBLISHED-TTL:PT1H
BEGIN:VTIMEZONE
TZID:America/Los_Angeles
BEGIN:DAYLIGHT
TZOFFSETFROM:-0800
TZOFFSETTO:-0700
TZNAME:PDT
DTSTART:20210314T100000
END:DAYLIGHT
BEGIN:STANDARD
TZOFFSETFROM:-0700
TZOFFSETTO:-0800
TZNAME:PST
DTSTART:20211107T090000
END:STANDARD
END:VTIMEZONE
BEGIN:VEVENT
DTSTART;TZID=America/Los_Angeles:20211015T100000
DTEND;TZID=America/Los_Angeles:20211016T160000
DTSTAMP:20260423T070710
CREATED:20210531T214214Z
LAST-MODIFIED:20210531T214214Z
UID:1209-1634292000-1634400000@www.julianwomansclub.org
SUMMARY:HOLIDAY BOUTIQUE   October 15 & 16
DESCRIPTION:The Julian Woman’s Club members create beautiful hand-made quilts and unique crafts to be used to decorate for Halloween\, Thanksgiving and Christmas. Many of the fabulous items can be used for Christmas gifts. The event is held at the Julian Woman’s Clubhouse\, 2607 “S” Street\, Julian\, CA 92036. The event will be open from 10:00 am until 4:00 pm on Friday and Saturday. Please come\, bring friends and enjoy visiting the Historic Town of Julian during the holidays.
URL:http://www.julianwomansclub.org/event/holiday-boutique-october-15-16/
LOCATION:CA
END:VEVENT
END:VCALENDAR