BEGIN:VCALENDAR
VERSION:2.0
PRODID:-//Julian Woman's Club - ECPv6.13.1//NONSGML v1.0//EN
CALSCALE:GREGORIAN
METHOD:PUBLISH
X-WR-CALNAME:Julian Woman's Club
X-ORIGINAL-URL:http://www.julianwomansclub.org
X-WR-CALDESC:Events for Julian Woman's Club
REFRESH-INTERVAL;VALUE=DURATION:PT1H
X-Robots-Tag:noindex
X-PUBLISHED-TTL:PT1H
BEGIN:VTIMEZONE
TZID:America/Los_Angeles
BEGIN:DAYLIGHT
TZOFFSETFROM:-0800
TZOFFSETTO:-0700
TZNAME:PDT
DTSTART:20180311T100000
END:DAYLIGHT
BEGIN:STANDARD
TZOFFSETFROM:-0700
TZOFFSETTO:-0800
TZNAME:PST
DTSTART:20181104T090000
END:STANDARD
END:VTIMEZONE
BEGIN:VEVENT
DTSTART;TZID=America/Los_Angeles:20180921T120000
DTEND;TZID=America/Los_Angeles:20180921T133000
DTSTAMP:20260425T084514
CREATED:20180726T222909Z
LAST-MODIFIED:20180817T011000Z
UID:615-1537531200-1537536600@www.julianwomansclub.org
SUMMARY:Julian Old Fashioned Country Fair Apple Pie Contest    September 21\, 2018
DESCRIPTION:Julian Old Fashioned Country Fair – 11th Annual Apple Pie Contest \nDate:  September 21\, 2018 \nTime:  Deliver entries between 10:30 a.m. and 12:00 noon.  Judging at 1:00 p.m. \nWhere:  Julian Woman’s Club\, 2607 C Street\, Julian \nSponsored by:  Julian Chamber of Commerce and Julian Woman’s Club \nAward winners notified by phone that afternoon.  They will be requested to appear on stage at the Country Fair on Saturday\, September 22.  First and Second place winners will receive prize money at that time. \nCash prizes:  1st prize – $200\, 2nd prize – $100 \nOther prizes:  Honorable Mention. \nRules: \n1.  Pie entries must be delivered to the Julian Woman’s Club between 10:30 and noon on Friday\, September 21\, 2018. \n2.  Entry and recipe forms must accompany pie or may be filled out at the Clubhouse.  Recipe forms must include all ingredients. \n3.  Only 1 entry per family. \n4.  Pie ingredients must include apples but may also include other fruits. \n5.  Pies must be homemade.  No store-bought entries. \n6.  Plates\, pans\, or dishes cannot be returned. \n7.  After judging left over pieces of pie will be sold at Country Fair. \n8.  Judging will be based on following criteria: \na.  Above rules are followed. \nb.  Taste/texture of crust and filling\, presentation\, and creativity. \nc.  Judging will be anonymous and done on a point system. \nd.  Four judges from local bakeries and restaurants will preside. \nFor further information call:  760-525-8139  or  760-765-0832 \n 
URL:http://www.julianwomansclub.org/event/apple-pie-baking-contest/
LOCATION:CA
END:VEVENT
END:VCALENDAR