BEGIN:VCALENDAR
VERSION:2.0
PRODID:-//Julian Woman's Club - ECPv6.13.1//NONSGML v1.0//EN
CALSCALE:GREGORIAN
METHOD:PUBLISH
X-WR-CALNAME:Julian Woman's Club
X-ORIGINAL-URL:http://www.julianwomansclub.org
X-WR-CALDESC:Events for Julian Woman's Club
REFRESH-INTERVAL;VALUE=DURATION:PT1H
X-Robots-Tag:noindex
X-PUBLISHED-TTL:PT1H
BEGIN:VTIMEZONE
TZID:America/Los_Angeles
BEGIN:DAYLIGHT
TZOFFSETFROM:-0800
TZOFFSETTO:-0700
TZNAME:PDT
DTSTART:20190310T100000
END:DAYLIGHT
BEGIN:STANDARD
TZOFFSETFROM:-0700
TZOFFSETTO:-0800
TZNAME:PST
DTSTART:20191103T090000
END:STANDARD
END:VTIMEZONE
BEGIN:VEVENT
DTSTART;VALUE=DATE:20191101
DTEND;VALUE=DATE:20191102
DTSTAMP:20260424T152936
CREATED:20160922T184725Z
LAST-MODIFIED:20191001T185718Z
UID:632-1572566400-1572652799@www.julianwomansclub.org
SUMMARY:November is Mountain Manna Month
DESCRIPTION:Mountain Manna is a project of the United Methodist Church in Julian. The project began one Thanksgiving when the church collected goods and prepared baskets for needy families in the area. What became apparent was that these families needed food every day\, week and month of the year\, and not just on the holidays. The church wanted to expand the program to provide food on a monthly basis. Funds to support the program now come from grants\, fundraisers and donations from individuals. The church eventually partnered with Julian Woman’s Club. \nOn the 4th Saturday of each month\, food is distributed to low income and needy families that live in and around Julian. There are often several hundred families that participate and receive food\, toiletries and items for children’s amusement. For the Thanksgiving and Christmas distributions\, a turkey is distributed to each family\, along with canned and dried foods.
URL:http://www.julianwomansclub.org/event/november-is-mountain-manna-month/
LOCATION:CA
END:VEVENT
END:VCALENDAR